BEGIN:VCALENDAR
VERSION:2.0
PRODID:-//Utah Pride Center - ECPv5.7.0//NONSGML v1.0//EN
CALSCALE:GREGORIAN
METHOD:PUBLISH
X-WR-CALNAME:Utah Pride Center
X-ORIGINAL-URL:https://utahpridecenter.org
X-WR-CALDESC:Events for Utah Pride Center
BEGIN:VTIMEZONE
TZID:America/Denver
BEGIN:DAYLIGHT
TZOFFSETFROM:-0700
TZOFFSETTO:-0600
TZNAME:MDT
DTSTART:20210314T090000
END:DAYLIGHT
BEGIN:STANDARD
TZOFFSETFROM:-0600
TZOFFSETTO:-0700
TZNAME:MST
DTSTART:20211107T080000
END:STANDARD
END:VTIMEZONE
BEGIN:VEVENT
DTSTART;TZID=America/Denver:20210413T173000
DTEND;TZID=America/Denver:20210413T183000
DTSTAMP:20210616T065641
CREATED:20200617T214345Z
LAST-MODIFIED:20210106T214013Z
UID:49548-1618335000-1618338600@utahpridecenter.org
SUMMARY:Adult Programs Daily Hangout
DESCRIPTION:A daily\, 60 minute hang out for all of our Utah Pride Center Adult Programs. \nMonday through Friday. \nAll are welcome\, ages 18+ even if you never attended these groups but always wanted to! \nEach meeting will be a time to talk about feelings\, hardships\, joyful moments\, whatever we want to share with each other \nWe want to stay connected and support each other through this time of social distancing! Remember\, we are in this together\, and staying in touch / seeing each others lovely faces is a great way to maintain emotional/mental health and morale! \nVirtual Meeting Information: \n\n\n\nmeet.google.com/iwp-xogm-ojh\n\n\n\n\n \n\n\nJoin by phone\n‪(US) +1 219-281-4189‬ PIN: ‪545 648 573‬#
URL:https://utahpridecenter.org/community_event/adult-programs-daily-hangout-2020-12-28/2021-04-13/
LOCATION:Online-Virtual\, UT
CATEGORIES:Adult Focus Programs
ORGANIZER;CN="Nick%20Arteaga":MAILTO:nickarteaga@utahpridecenter.org
END:VEVENT
END:VCALENDAR