BEGIN:VCALENDAR
VERSION:2.0
PRODID:-//Utah Pride Center - ECPv5.7.0//NONSGML v1.0//EN
CALSCALE:GREGORIAN
METHOD:PUBLISH
X-WR-CALNAME:Utah Pride Center
X-ORIGINAL-URL:https://utahpridecenter.org
X-WR-CALDESC:Events for Utah Pride Center
BEGIN:VTIMEZONE
TZID:America/Denver
BEGIN:DAYLIGHT
TZOFFSETFROM:-0700
TZOFFSETTO:-0600
TZNAME:MDT
DTSTART:20210314T090000
END:DAYLIGHT
BEGIN:STANDARD
TZOFFSETFROM:-0600
TZOFFSETTO:-0700
TZNAME:MST
DTSTART:20211107T080000
END:STANDARD
END:VTIMEZONE
BEGIN:VEVENT
DTSTART;TZID=America/Denver:20210416T120000
DTEND;TZID=America/Denver:20210416T130000
DTSTAMP:20210616T221056
CREATED:20210209T190621Z
LAST-MODIFIED:20210209T190621Z
UID:51849-1618574400-1618578000@utahpridecenter.org
SUMMARY:Hit the G.A.S. (Gender and Sexuality)
DESCRIPTION:Every Friday at noon is Hit the G.A.S.\, our weekly film discussion group (G.A.S. stands for Gender And Sexuality)\, where we have awesome discussions on films through a gender and sexuality lens. This upcoming Friday\, we’re talking about Wynonna Earp\, a series on Netflix about the descendent of Wild West gunslinger\, Wyatt Earp\, who also happens to be a demon killer. Watch as much (or as little) as needed and then tune in to the discussion on Friday at noon! \n\n\n\nMeeting URL:\nhttps://slcc-edu.zoom.us/j/92223625203?pwd=Q0oxQi95aDNWOTMvcnA5SzREYkJkZz09&from=msft\n\n\nMeeting ID:\n922 2362 5203\n\n\nPasscode:\n027809
URL:https://utahpridecenter.org/community_event/hit-the-g-a-s-gender-and-sexuality/2021-04-16/
LOCATION:Salt Lake Community College South City Campus\, 1575 State Street\, Salt Lake City\, UT\, 84115\, United States
CATEGORIES:Community Space
ATTACH;FMTTYPE=image/png:https://utahpridecenter.org/wp-content/uploads/2021/02/Hit-The-GAS-mono.png
GEO:40.7350198;-111.8858575
X-APPLE-STRUCTURED-LOCATION;VALUE=URI;X-ADDRESS=Salt Lake Community College South City Campus 1575 State Street Salt Lake City UT 84115 United States;X-APPLE-RADIUS=500;X-TITLE=1575 State Street:geo:-111.8858575,40.7350198
END:VEVENT
END:VCALENDAR