BEGIN:VCALENDAR
VERSION:2.0
PRODID:-//Utah Pride Center - ECPv5.7.0//NONSGML v1.0//EN
CALSCALE:GREGORIAN
METHOD:PUBLISH
X-WR-CALNAME:Utah Pride Center
X-ORIGINAL-URL:https://utahpridecenter.org
X-WR-CALDESC:Events for Utah Pride Center
BEGIN:VTIMEZONE
TZID:America/Denver
BEGIN:DAYLIGHT
TZOFFSETFROM:-0700
TZOFFSETTO:-0600
TZNAME:MDT
DTSTART:20210314T090000
END:DAYLIGHT
BEGIN:STANDARD
TZOFFSETFROM:-0600
TZOFFSETTO:-0700
TZNAME:MST
DTSTART:20211107T080000
END:STANDARD
END:VTIMEZONE
BEGIN:VEVENT
DTSTART;TZID=America/Denver:20210413T180000
DTEND;TZID=America/Denver:20210413T200000
DTSTAMP:20210616T065706
CREATED:20201013T232243Z
LAST-MODIFIED:20210220T172531Z
UID:47715-1618336800-1618344000@utahpridecenter.org
SUMMARY:Men's Support Group
DESCRIPTION:Utah Pride Center Community Counseling Services\nMEN’S SUPPORT GROUP\n  \nPOTENTIAL MEN’S SUPPORT GROUP TOPICS\n\nSelf-care & Depression\nReligion & Finding common ground\nSafety & Community\nStigma of being Gay or Bisexual\nAsking for assistance from others\nComing out with confidence & owning our identities\nResiliency (how to get back on your feet)\nCoping with Covid-19\nThoughts of suicide\nPracticing forgiveness and navigating family issues\nPositive experiences that have led to participation in support groups\nManaging anger\nGay and straight men as friends\, how heterosexual guys and gay men can heal and grow as a result of their friendships\n\nContact Therapy@utahpridecenter.org or 801-539-8800 for more information or for required intake interview.\n  \nIF YOU OR SOMEONE YOU KNOW IS STRUGGLING WITH THOUGHTS OF SUICIDE\, CALL THE SUICIDE PREVENTION HOTLINE AT 1-800-273-TALK. \n\nUtah County Crisis Line: 801-691-5433\nSalt Lake County/UNI Crisis Line: 801-587-3000\nWasatch Mental Health Crisis Line: 801-373-7393\nNational Suicide Prevention Lifeline: 1-800-273-TALK (8255)\nTrevor Project Hotline for LGBTQ teens: 1-866-488-7386\n\nVirtual Meetings\nTuesdays from 6:00 – 8:00 pm \nTHE MEN’S SUPPORT GROUP is open to all trans and cis-gender men who identify as gay\, bisexual\, or queer. \n \n1380 S Main St\, Salt Lake City\, UT 84115
URL:https://utahpridecenter.org/community_event/mens-support-group-2021-01-05/2021-04-13/
LOCATION:Online-Virtual\, UT
CATEGORIES:Mental Health
ATTACH;FMTTYPE=image/png:https://utahpridecenter.org/wp-content/uploads/2020/10/MensSupportGroup-2020_Brandon-Devlin-1.png
ORGANIZER;CN="Utah%20Pride%20Community%20Counseling%20Center":MAILTO:therapy@utahpridecenter.org
END:VEVENT
END:VCALENDAR