BEGIN:VCALENDAR
VERSION:2.0
PRODID:-//Utah Pride Center - ECPv5.6.0//NONSGML v1.0//EN
CALSCALE:GREGORIAN
METHOD:PUBLISH
X-WR-CALNAME:Utah Pride Center
X-ORIGINAL-URL:https://utahpridecenter.org
X-WR-CALDESC:Events for Utah Pride Center
BEGIN:VTIMEZONE
TZID:America/Denver
BEGIN:DAYLIGHT
TZOFFSETFROM:-0700
TZOFFSETTO:-0600
TZNAME:MDT
DTSTART:20210314T090000
END:DAYLIGHT
BEGIN:STANDARD
TZOFFSETFROM:-0600
TZOFFSETTO:-0700
TZNAME:MST
DTSTART:20211107T080000
END:STANDARD
END:VTIMEZONE
BEGIN:VEVENT
DTSTART;TZID=America/Denver:20210511T180000
DTEND;TZID=America/Denver:20210511T193000
DTSTAMP:20210510T080151
CREATED:20191003T051431Z
LAST-MODIFIED:20201214T220608Z
UID:48203-1620756000-1620761400@utahpridecenter.org
SUMMARY:Rainbow Law Free Clinic
DESCRIPTION:Areas of Law: LGBT legal issues related to employment\, estate planning\, family law\, etc.\nSponsored by: S.J. Quinney College of Law\, The Outlaws\, The Pride Center\, and LGBT & Allied Lawyers of Utah. \nIMPORTANT: You need to email probono@utahbar.org or call 801 297 7049 to schedule appointments.
URL:https://utahpridecenter.org/community_event/rainbow-law-free-clinic-2020-12-10-2/2021-05-11/
LOCATION:Online-Virtual\, UT
ORGANIZER;CN="LGBT%20%26amp%3B%20Allied%20Lawyers%20of%20Utah":MAILTO:probono@utahbar.org
END:VEVENT
BEGIN:VEVENT
DTSTART;TZID=America/Denver:20210608T180000
DTEND;TZID=America/Denver:20210608T193000
DTSTAMP:20210510T080151
CREATED:20191003T051431Z
LAST-MODIFIED:20201214T220608Z
UID:48204-1623175200-1623180600@utahpridecenter.org
SUMMARY:Rainbow Law Free Clinic
DESCRIPTION:Areas of Law: LGBT legal issues related to employment\, estate planning\, family law\, etc.\nSponsored by: S.J. Quinney College of Law\, The Outlaws\, The Pride Center\, and LGBT & Allied Lawyers of Utah. \nIMPORTANT: You need to email probono@utahbar.org or call 801 297 7049 to schedule appointments.
URL:https://utahpridecenter.org/community_event/rainbow-law-free-clinic-2020-12-10-2/2021-06-08/
LOCATION:Online-Virtual\, UT
ORGANIZER;CN="LGBT%20%26amp%3B%20Allied%20Lawyers%20of%20Utah":MAILTO:probono@utahbar.org
END:VEVENT
BEGIN:VEVENT
DTSTART;TZID=America/Denver:20210713T180000
DTEND;TZID=America/Denver:20210713T193000
DTSTAMP:20210510T080151
CREATED:20191003T051431Z
LAST-MODIFIED:20210204T184148Z
UID:50243-1626199200-1626204600@utahpridecenter.org
SUMMARY:Rainbow Law Free Clinic
DESCRIPTION:Areas of Law: LGBT legal issues related to employment\, estate planning\, family law\, etc.\nSponsored by: S.J. Quinney College of Law\, The Outlaws\, The Pride Center\, and LGBT & Allied Lawyers of Utah. \nIMPORTANT: You need to email probono@utahbar.org or call 801 297 7049 to schedule appointments.
URL:https://utahpridecenter.org/community_event/rainbow-law-free-clinic-2020-12-10-2/2021-07-13/
LOCATION:Online-Virtual\, UT
ORGANIZER;CN="LGBT%20%26amp%3B%20Allied%20Lawyers%20of%20Utah":MAILTO:probono@utahbar.org
END:VEVENT
BEGIN:VEVENT
DTSTART;TZID=America/Denver:20210810T180000
DTEND;TZID=America/Denver:20210810T193000
DTSTAMP:20210510T080151
CREATED:20210211T221949Z
LAST-MODIFIED:20191003T051431Z
UID:51955-1628618400-1628623800@utahpridecenter.org
SUMMARY:Rainbow Law Free Clinic
DESCRIPTION:Areas of Law: LGBT legal issues related to employment\, estate planning\, family law\, etc.\nSponsored by: S.J. Quinney College of Law\, The Outlaws\, The Pride Center\, and LGBT & Allied Lawyers of Utah. \nIMPORTANT: You need to email probono@utahbar.org or call 801 297 7049 to schedule appointments.
URL:https://utahpridecenter.org/community_event/rainbow-law-free-clinic-2020-12-10-2/2021-08-10/
LOCATION:Online-Virtual\, UT
ORGANIZER;CN="LGBT%20%26amp%3B%20Allied%20Lawyers%20of%20Utah":MAILTO:probono@utahbar.org
END:VEVENT
END:VCALENDAR