BEGIN:VCALENDAR
VERSION:2.0
PRODID:-//Utah Pride Center - ECPv5.6.0//NONSGML v1.0//EN
CALSCALE:GREGORIAN
METHOD:PUBLISH
X-WR-CALNAME:Utah Pride Center
X-ORIGINAL-URL:https://utahpridecenter.org
X-WR-CALDESC:Events for Utah Pride Center
BEGIN:VTIMEZONE
TZID:America/Denver
BEGIN:DAYLIGHT
TZOFFSETFROM:-0700
TZOFFSETTO:-0600
TZNAME:MDT
DTSTART:20210314T090000
END:DAYLIGHT
BEGIN:STANDARD
TZOFFSETFROM:-0600
TZOFFSETTO:-0700
TZNAME:MST
DTSTART:20211107T080000
END:STANDARD
END:VTIMEZONE
BEGIN:VEVENT
DTSTART;TZID=America/Denver:20210511T180000
DTEND;TZID=America/Denver:20210511T193000
DTSTAMP:20210510T075830
CREATED:20210206T215139Z
LAST-MODIFIED:20210206T215507Z
UID:51603-1620756000-1620761400@utahpridecenter.org
SUMMARY:Tuesday Trotters Walking Group
DESCRIPTION:When 2020 crashed our regularly scheduled programming\, the most difficult change was not seeing each other in person.  One of the groups we missed so much was our walking group.  Fast forward to 2021 and we now know the importance of wearing masks and staying socially distant and we’ve gotten good at it after all these months of practicing. \nBecause we are now experts in Covid safety\, let’s start walking!  Please wear your favorite mask\, some sensible walking shoes and make sure you are symptom free.  Walk around the park at your own pace – no rules\, no rush.  Hope to see you there. \nLIBERTY PARK\nBEGINNING ON APRIL 6\, 2021 (EVERY TUESDAY THROUGH THE END OF OCTOBER)\n6:00 PM\nSOUTHEAST SIDE OF THE PARK @ THE WATER FOUNTAIN \nMUST WEAR MASK AND MAINTAIN SOCIAL DISTANCING
URL:https://utahpridecenter.org/community_event/tuesday-trotters-senior-walking-group/2021-05-11/
LOCATION:Liberty Park\, 600 East 900 SOuth\, UT\, United States
CATEGORIES:Senior Programs
ATTACH;FMTTYPE=image/jpeg:https://utahpridecenter.org/wp-content/uploads/2021/02/tuesday-trotters-scaled.jpg
ORGANIZER;CN="Sage%20Utah":MAILTO:sage@utahpridecenter.org
GEO:40.7457423;-111.8739982
X-APPLE-STRUCTURED-LOCATION;VALUE=URI;X-ADDRESS=Liberty Park 600 East 900 SOuth UT United States;X-APPLE-RADIUS=500;X-TITLE=600 East 900 SOuth:geo:-111.8739982,40.7457423
END:VEVENT
BEGIN:VEVENT
DTSTART;TZID=America/Denver:20210518T180000
DTEND;TZID=America/Denver:20210518T193000
DTSTAMP:20210510T075830
CREATED:20210206T215139Z
LAST-MODIFIED:20210206T215509Z
UID:51604-1621360800-1621366200@utahpridecenter.org
SUMMARY:Tuesday Trotters Walking Group
DESCRIPTION:When 2020 crashed our regularly scheduled programming\, the most difficult change was not seeing each other in person.  One of the groups we missed so much was our walking group.  Fast forward to 2021 and we now know the importance of wearing masks and staying socially distant and we’ve gotten good at it after all these months of practicing. \nBecause we are now experts in Covid safety\, let’s start walking!  Please wear your favorite mask\, some sensible walking shoes and make sure you are symptom free.  Walk around the park at your own pace – no rules\, no rush.  Hope to see you there. \nLIBERTY PARK\nBEGINNING ON APRIL 6\, 2021 (EVERY TUESDAY THROUGH THE END OF OCTOBER)\n6:00 PM\nSOUTHEAST SIDE OF THE PARK @ THE WATER FOUNTAIN \nMUST WEAR MASK AND MAINTAIN SOCIAL DISTANCING
URL:https://utahpridecenter.org/community_event/tuesday-trotters-senior-walking-group/2021-05-18/
LOCATION:Liberty Park\, 600 East 900 SOuth\, UT\, United States
CATEGORIES:Senior Programs
ATTACH;FMTTYPE=image/jpeg:https://utahpridecenter.org/wp-content/uploads/2021/02/tuesday-trotters-scaled.jpg
ORGANIZER;CN="Sage%20Utah":MAILTO:sage@utahpridecenter.org
GEO:40.7457423;-111.8739982
X-APPLE-STRUCTURED-LOCATION;VALUE=URI;X-ADDRESS=Liberty Park 600 East 900 SOuth UT United States;X-APPLE-RADIUS=500;X-TITLE=600 East 900 SOuth:geo:-111.8739982,40.7457423
END:VEVENT
BEGIN:VEVENT
DTSTART;TZID=America/Denver:20210525T180000
DTEND;TZID=America/Denver:20210525T193000
DTSTAMP:20210510T075830
CREATED:20210206T215139Z
LAST-MODIFIED:20210206T215512Z
UID:51605-1621965600-1621971000@utahpridecenter.org
SUMMARY:Tuesday Trotters Walking Group
DESCRIPTION:When 2020 crashed our regularly scheduled programming\, the most difficult change was not seeing each other in person.  One of the groups we missed so much was our walking group.  Fast forward to 2021 and we now know the importance of wearing masks and staying socially distant and we’ve gotten good at it after all these months of practicing. \nBecause we are now experts in Covid safety\, let’s start walking!  Please wear your favorite mask\, some sensible walking shoes and make sure you are symptom free.  Walk around the park at your own pace – no rules\, no rush.  Hope to see you there. \nLIBERTY PARK\nBEGINNING ON APRIL 6\, 2021 (EVERY TUESDAY THROUGH THE END OF OCTOBER)\n6:00 PM\nSOUTHEAST SIDE OF THE PARK @ THE WATER FOUNTAIN \nMUST WEAR MASK AND MAINTAIN SOCIAL DISTANCING
URL:https://utahpridecenter.org/community_event/tuesday-trotters-senior-walking-group/2021-05-25/
LOCATION:Liberty Park\, 600 East 900 SOuth\, UT\, United States
CATEGORIES:Senior Programs
ATTACH;FMTTYPE=image/jpeg:https://utahpridecenter.org/wp-content/uploads/2021/02/tuesday-trotters-scaled.jpg
ORGANIZER;CN="Sage%20Utah":MAILTO:sage@utahpridecenter.org
GEO:40.7457423;-111.8739982
X-APPLE-STRUCTURED-LOCATION;VALUE=URI;X-ADDRESS=Liberty Park 600 East 900 SOuth UT United States;X-APPLE-RADIUS=500;X-TITLE=600 East 900 SOuth:geo:-111.8739982,40.7457423
END:VEVENT
BEGIN:VEVENT
DTSTART;TZID=America/Denver:20210601T180000
DTEND;TZID=America/Denver:20210601T193000
DTSTAMP:20210510T075830
CREATED:20210206T215139Z
LAST-MODIFIED:20210206T215514Z
UID:51606-1622570400-1622575800@utahpridecenter.org
SUMMARY:Tuesday Trotters Walking Group
DESCRIPTION:When 2020 crashed our regularly scheduled programming\, the most difficult change was not seeing each other in person.  One of the groups we missed so much was our walking group.  Fast forward to 2021 and we now know the importance of wearing masks and staying socially distant and we’ve gotten good at it after all these months of practicing. \nBecause we are now experts in Covid safety\, let’s start walking!  Please wear your favorite mask\, some sensible walking shoes and make sure you are symptom free.  Walk around the park at your own pace – no rules\, no rush.  Hope to see you there. \nLIBERTY PARK\nBEGINNING ON APRIL 6\, 2021 (EVERY TUESDAY THROUGH THE END OF OCTOBER)\n6:00 PM\nSOUTHEAST SIDE OF THE PARK @ THE WATER FOUNTAIN \nMUST WEAR MASK AND MAINTAIN SOCIAL DISTANCING
URL:https://utahpridecenter.org/community_event/tuesday-trotters-senior-walking-group/2021-06-01/
LOCATION:Liberty Park\, 600 East 900 SOuth\, UT\, United States
CATEGORIES:Senior Programs
ATTACH;FMTTYPE=image/jpeg:https://utahpridecenter.org/wp-content/uploads/2021/02/tuesday-trotters-scaled.jpg
ORGANIZER;CN="Sage%20Utah":MAILTO:sage@utahpridecenter.org
GEO:40.7457423;-111.8739982
X-APPLE-STRUCTURED-LOCATION;VALUE=URI;X-ADDRESS=Liberty Park 600 East 900 SOuth UT United States;X-APPLE-RADIUS=500;X-TITLE=600 East 900 SOuth:geo:-111.8739982,40.7457423
END:VEVENT
BEGIN:VEVENT
DTSTART;TZID=America/Denver:20210608T180000
DTEND;TZID=America/Denver:20210608T193000
DTSTAMP:20210510T075830
CREATED:20210206T215139Z
LAST-MODIFIED:20210206T215516Z
UID:51607-1623175200-1623180600@utahpridecenter.org
SUMMARY:Tuesday Trotters Walking Group
DESCRIPTION:When 2020 crashed our regularly scheduled programming\, the most difficult change was not seeing each other in person.  One of the groups we missed so much was our walking group.  Fast forward to 2021 and we now know the importance of wearing masks and staying socially distant and we’ve gotten good at it after all these months of practicing. \nBecause we are now experts in Covid safety\, let’s start walking!  Please wear your favorite mask\, some sensible walking shoes and make sure you are symptom free.  Walk around the park at your own pace – no rules\, no rush.  Hope to see you there. \nLIBERTY PARK\nBEGINNING ON APRIL 6\, 2021 (EVERY TUESDAY THROUGH THE END OF OCTOBER)\n6:00 PM\nSOUTHEAST SIDE OF THE PARK @ THE WATER FOUNTAIN \nMUST WEAR MASK AND MAINTAIN SOCIAL DISTANCING
URL:https://utahpridecenter.org/community_event/tuesday-trotters-senior-walking-group/2021-06-08/
LOCATION:Liberty Park\, 600 East 900 SOuth\, UT\, United States
CATEGORIES:Senior Programs
ATTACH;FMTTYPE=image/jpeg:https://utahpridecenter.org/wp-content/uploads/2021/02/tuesday-trotters-scaled.jpg
ORGANIZER;CN="Sage%20Utah":MAILTO:sage@utahpridecenter.org
GEO:40.7457423;-111.8739982
X-APPLE-STRUCTURED-LOCATION;VALUE=URI;X-ADDRESS=Liberty Park 600 East 900 SOuth UT United States;X-APPLE-RADIUS=500;X-TITLE=600 East 900 SOuth:geo:-111.8739982,40.7457423
END:VEVENT
BEGIN:VEVENT
DTSTART;TZID=America/Denver:20210615T180000
DTEND;TZID=America/Denver:20210615T193000
DTSTAMP:20210510T075830
CREATED:20210206T215139Z
LAST-MODIFIED:20210206T215518Z
UID:51608-1623780000-1623785400@utahpridecenter.org
SUMMARY:Tuesday Trotters Walking Group
DESCRIPTION:When 2020 crashed our regularly scheduled programming\, the most difficult change was not seeing each other in person.  One of the groups we missed so much was our walking group.  Fast forward to 2021 and we now know the importance of wearing masks and staying socially distant and we’ve gotten good at it after all these months of practicing. \nBecause we are now experts in Covid safety\, let’s start walking!  Please wear your favorite mask\, some sensible walking shoes and make sure you are symptom free.  Walk around the park at your own pace – no rules\, no rush.  Hope to see you there. \nLIBERTY PARK\nBEGINNING ON APRIL 6\, 2021 (EVERY TUESDAY THROUGH THE END OF OCTOBER)\n6:00 PM\nSOUTHEAST SIDE OF THE PARK @ THE WATER FOUNTAIN \nMUST WEAR MASK AND MAINTAIN SOCIAL DISTANCING
URL:https://utahpridecenter.org/community_event/tuesday-trotters-senior-walking-group/2021-06-15/
LOCATION:Liberty Park\, 600 East 900 SOuth\, UT\, United States
CATEGORIES:Senior Programs
ATTACH;FMTTYPE=image/jpeg:https://utahpridecenter.org/wp-content/uploads/2021/02/tuesday-trotters-scaled.jpg
ORGANIZER;CN="Sage%20Utah":MAILTO:sage@utahpridecenter.org
GEO:40.7457423;-111.8739982
X-APPLE-STRUCTURED-LOCATION;VALUE=URI;X-ADDRESS=Liberty Park 600 East 900 SOuth UT United States;X-APPLE-RADIUS=500;X-TITLE=600 East 900 SOuth:geo:-111.8739982,40.7457423
END:VEVENT
BEGIN:VEVENT
DTSTART;TZID=America/Denver:20210622T180000
DTEND;TZID=America/Denver:20210622T193000
DTSTAMP:20210510T075830
CREATED:20210206T215139Z
LAST-MODIFIED:20210206T215526Z
UID:51623-1624384800-1624390200@utahpridecenter.org
SUMMARY:Tuesday Trotters Walking Group
DESCRIPTION:When 2020 crashed our regularly scheduled programming\, the most difficult change was not seeing each other in person.  One of the groups we missed so much was our walking group.  Fast forward to 2021 and we now know the importance of wearing masks and staying socially distant and we’ve gotten good at it after all these months of practicing. \nBecause we are now experts in Covid safety\, let’s start walking!  Please wear your favorite mask\, some sensible walking shoes and make sure you are symptom free.  Walk around the park at your own pace – no rules\, no rush.  Hope to see you there. \nLIBERTY PARK\nBEGINNING ON APRIL 6\, 2021 (EVERY TUESDAY THROUGH THE END OF OCTOBER)\n6:00 PM\nSOUTHEAST SIDE OF THE PARK @ THE WATER FOUNTAIN \nMUST WEAR MASK AND MAINTAIN SOCIAL DISTANCING
URL:https://utahpridecenter.org/community_event/tuesday-trotters-senior-walking-group/2021-06-22/
LOCATION:Liberty Park\, 600 East 900 SOuth\, UT\, United States
CATEGORIES:Senior Programs
ATTACH;FMTTYPE=image/jpeg:https://utahpridecenter.org/wp-content/uploads/2021/02/tuesday-trotters-scaled.jpg
ORGANIZER;CN="Sage%20Utah":MAILTO:sage@utahpridecenter.org
GEO:40.7457423;-111.8739982
X-APPLE-STRUCTURED-LOCATION;VALUE=URI;X-ADDRESS=Liberty Park 600 East 900 SOuth UT United States;X-APPLE-RADIUS=500;X-TITLE=600 East 900 SOuth:geo:-111.8739982,40.7457423
END:VEVENT
BEGIN:VEVENT
DTSTART;TZID=America/Denver:20210629T180000
DTEND;TZID=America/Denver:20210629T193000
DTSTAMP:20210510T075830
CREATED:20210206T215139Z
LAST-MODIFIED:20210206T215529Z
UID:51624-1624989600-1624995000@utahpridecenter.org
SUMMARY:Tuesday Trotters Walking Group
DESCRIPTION:When 2020 crashed our regularly scheduled programming\, the most difficult change was not seeing each other in person.  One of the groups we missed so much was our walking group.  Fast forward to 2021 and we now know the importance of wearing masks and staying socially distant and we’ve gotten good at it after all these months of practicing. \nBecause we are now experts in Covid safety\, let’s start walking!  Please wear your favorite mask\, some sensible walking shoes and make sure you are symptom free.  Walk around the park at your own pace – no rules\, no rush.  Hope to see you there. \nLIBERTY PARK\nBEGINNING ON APRIL 6\, 2021 (EVERY TUESDAY THROUGH THE END OF OCTOBER)\n6:00 PM\nSOUTHEAST SIDE OF THE PARK @ THE WATER FOUNTAIN \nMUST WEAR MASK AND MAINTAIN SOCIAL DISTANCING
URL:https://utahpridecenter.org/community_event/tuesday-trotters-senior-walking-group/2021-06-29/
LOCATION:Liberty Park\, 600 East 900 SOuth\, UT\, United States
CATEGORIES:Senior Programs
ATTACH;FMTTYPE=image/jpeg:https://utahpridecenter.org/wp-content/uploads/2021/02/tuesday-trotters-scaled.jpg
ORGANIZER;CN="Sage%20Utah":MAILTO:sage@utahpridecenter.org
GEO:40.7457423;-111.8739982
X-APPLE-STRUCTURED-LOCATION;VALUE=URI;X-ADDRESS=Liberty Park 600 East 900 SOuth UT United States;X-APPLE-RADIUS=500;X-TITLE=600 East 900 SOuth:geo:-111.8739982,40.7457423
END:VEVENT
BEGIN:VEVENT
DTSTART;TZID=America/Denver:20210706T180000
DTEND;TZID=America/Denver:20210706T193000
DTSTAMP:20210510T075830
CREATED:20210206T215139Z
LAST-MODIFIED:20210206T215541Z
UID:51625-1625594400-1625599800@utahpridecenter.org
SUMMARY:Tuesday Trotters Walking Group
DESCRIPTION:When 2020 crashed our regularly scheduled programming\, the most difficult change was not seeing each other in person.  One of the groups we missed so much was our walking group.  Fast forward to 2021 and we now know the importance of wearing masks and staying socially distant and we’ve gotten good at it after all these months of practicing. \nBecause we are now experts in Covid safety\, let’s start walking!  Please wear your favorite mask\, some sensible walking shoes and make sure you are symptom free.  Walk around the park at your own pace – no rules\, no rush.  Hope to see you there. \nLIBERTY PARK\nBEGINNING ON APRIL 6\, 2021 (EVERY TUESDAY THROUGH THE END OF OCTOBER)\n6:00 PM\nSOUTHEAST SIDE OF THE PARK @ THE WATER FOUNTAIN \nMUST WEAR MASK AND MAINTAIN SOCIAL DISTANCING
URL:https://utahpridecenter.org/community_event/tuesday-trotters-senior-walking-group/2021-07-06/
LOCATION:Liberty Park\, 600 East 900 SOuth\, UT\, United States
CATEGORIES:Senior Programs
ATTACH;FMTTYPE=image/jpeg:https://utahpridecenter.org/wp-content/uploads/2021/02/tuesday-trotters-scaled.jpg
ORGANIZER;CN="Sage%20Utah":MAILTO:sage@utahpridecenter.org
GEO:40.7457423;-111.8739982
X-APPLE-STRUCTURED-LOCATION;VALUE=URI;X-ADDRESS=Liberty Park 600 East 900 SOuth UT United States;X-APPLE-RADIUS=500;X-TITLE=600 East 900 SOuth:geo:-111.8739982,40.7457423
END:VEVENT
BEGIN:VEVENT
DTSTART;TZID=America/Denver:20210713T180000
DTEND;TZID=America/Denver:20210713T193000
DTSTAMP:20210510T075830
CREATED:20210206T215139Z
LAST-MODIFIED:20210206T215544Z
UID:51626-1626199200-1626204600@utahpridecenter.org
SUMMARY:Tuesday Trotters Walking Group
DESCRIPTION:When 2020 crashed our regularly scheduled programming\, the most difficult change was not seeing each other in person.  One of the groups we missed so much was our walking group.  Fast forward to 2021 and we now know the importance of wearing masks and staying socially distant and we’ve gotten good at it after all these months of practicing. \nBecause we are now experts in Covid safety\, let’s start walking!  Please wear your favorite mask\, some sensible walking shoes and make sure you are symptom free.  Walk around the park at your own pace – no rules\, no rush.  Hope to see you there. \nLIBERTY PARK\nBEGINNING ON APRIL 6\, 2021 (EVERY TUESDAY THROUGH THE END OF OCTOBER)\n6:00 PM\nSOUTHEAST SIDE OF THE PARK @ THE WATER FOUNTAIN \nMUST WEAR MASK AND MAINTAIN SOCIAL DISTANCING
URL:https://utahpridecenter.org/community_event/tuesday-trotters-senior-walking-group/2021-07-13/
LOCATION:Liberty Park\, 600 East 900 SOuth\, UT\, United States
CATEGORIES:Senior Programs
ATTACH;FMTTYPE=image/jpeg:https://utahpridecenter.org/wp-content/uploads/2021/02/tuesday-trotters-scaled.jpg
ORGANIZER;CN="Sage%20Utah":MAILTO:sage@utahpridecenter.org
GEO:40.7457423;-111.8739982
X-APPLE-STRUCTURED-LOCATION;VALUE=URI;X-ADDRESS=Liberty Park 600 East 900 SOuth UT United States;X-APPLE-RADIUS=500;X-TITLE=600 East 900 SOuth:geo:-111.8739982,40.7457423
END:VEVENT
BEGIN:VEVENT
DTSTART;TZID=America/Denver:20210720T180000
DTEND;TZID=America/Denver:20210720T193000
DTSTAMP:20210510T075830
CREATED:20210206T215139Z
LAST-MODIFIED:20210206T215546Z
UID:51627-1626804000-1626809400@utahpridecenter.org
SUMMARY:Tuesday Trotters Walking Group
DESCRIPTION:When 2020 crashed our regularly scheduled programming\, the most difficult change was not seeing each other in person.  One of the groups we missed so much was our walking group.  Fast forward to 2021 and we now know the importance of wearing masks and staying socially distant and we’ve gotten good at it after all these months of practicing. \nBecause we are now experts in Covid safety\, let’s start walking!  Please wear your favorite mask\, some sensible walking shoes and make sure you are symptom free.  Walk around the park at your own pace – no rules\, no rush.  Hope to see you there. \nLIBERTY PARK\nBEGINNING ON APRIL 6\, 2021 (EVERY TUESDAY THROUGH THE END OF OCTOBER)\n6:00 PM\nSOUTHEAST SIDE OF THE PARK @ THE WATER FOUNTAIN \nMUST WEAR MASK AND MAINTAIN SOCIAL DISTANCING
URL:https://utahpridecenter.org/community_event/tuesday-trotters-senior-walking-group/2021-07-20/
LOCATION:Liberty Park\, 600 East 900 SOuth\, UT\, United States
CATEGORIES:Senior Programs
ATTACH;FMTTYPE=image/jpeg:https://utahpridecenter.org/wp-content/uploads/2021/02/tuesday-trotters-scaled.jpg
ORGANIZER;CN="Sage%20Utah":MAILTO:sage@utahpridecenter.org
GEO:40.7457423;-111.8739982
X-APPLE-STRUCTURED-LOCATION;VALUE=URI;X-ADDRESS=Liberty Park 600 East 900 SOuth UT United States;X-APPLE-RADIUS=500;X-TITLE=600 East 900 SOuth:geo:-111.8739982,40.7457423
END:VEVENT
BEGIN:VEVENT
DTSTART;TZID=America/Denver:20210727T180000
DTEND;TZID=America/Denver:20210727T193000
DTSTAMP:20210510T075830
CREATED:20210206T215139Z
LAST-MODIFIED:20210206T215548Z
UID:51628-1627408800-1627414200@utahpridecenter.org
SUMMARY:Tuesday Trotters Walking Group
DESCRIPTION:When 2020 crashed our regularly scheduled programming\, the most difficult change was not seeing each other in person.  One of the groups we missed so much was our walking group.  Fast forward to 2021 and we now know the importance of wearing masks and staying socially distant and we’ve gotten good at it after all these months of practicing. \nBecause we are now experts in Covid safety\, let’s start walking!  Please wear your favorite mask\, some sensible walking shoes and make sure you are symptom free.  Walk around the park at your own pace – no rules\, no rush.  Hope to see you there. \nLIBERTY PARK\nBEGINNING ON APRIL 6\, 2021 (EVERY TUESDAY THROUGH THE END OF OCTOBER)\n6:00 PM\nSOUTHEAST SIDE OF THE PARK @ THE WATER FOUNTAIN \nMUST WEAR MASK AND MAINTAIN SOCIAL DISTANCING
URL:https://utahpridecenter.org/community_event/tuesday-trotters-senior-walking-group/2021-07-27/
LOCATION:Liberty Park\, 600 East 900 SOuth\, UT\, United States
CATEGORIES:Senior Programs
ATTACH;FMTTYPE=image/jpeg:https://utahpridecenter.org/wp-content/uploads/2021/02/tuesday-trotters-scaled.jpg
ORGANIZER;CN="Sage%20Utah":MAILTO:sage@utahpridecenter.org
GEO:40.7457423;-111.8739982
X-APPLE-STRUCTURED-LOCATION;VALUE=URI;X-ADDRESS=Liberty Park 600 East 900 SOuth UT United States;X-APPLE-RADIUS=500;X-TITLE=600 East 900 SOuth:geo:-111.8739982,40.7457423
END:VEVENT
BEGIN:VEVENT
DTSTART;TZID=America/Denver:20210803T180000
DTEND;TZID=America/Denver:20210803T193000
DTSTAMP:20210510T075830
CREATED:20210206T215139Z
LAST-MODIFIED:20210206T215550Z
UID:51629-1628013600-1628019000@utahpridecenter.org
SUMMARY:Tuesday Trotters Walking Group
DESCRIPTION:When 2020 crashed our regularly scheduled programming\, the most difficult change was not seeing each other in person.  One of the groups we missed so much was our walking group.  Fast forward to 2021 and we now know the importance of wearing masks and staying socially distant and we’ve gotten good at it after all these months of practicing. \nBecause we are now experts in Covid safety\, let’s start walking!  Please wear your favorite mask\, some sensible walking shoes and make sure you are symptom free.  Walk around the park at your own pace – no rules\, no rush.  Hope to see you there. \nLIBERTY PARK\nBEGINNING ON APRIL 6\, 2021 (EVERY TUESDAY THROUGH THE END OF OCTOBER)\n6:00 PM\nSOUTHEAST SIDE OF THE PARK @ THE WATER FOUNTAIN \nMUST WEAR MASK AND MAINTAIN SOCIAL DISTANCING
URL:https://utahpridecenter.org/community_event/tuesday-trotters-senior-walking-group/2021-08-03/
LOCATION:Liberty Park\, 600 East 900 SOuth\, UT\, United States
CATEGORIES:Senior Programs
ATTACH;FMTTYPE=image/jpeg:https://utahpridecenter.org/wp-content/uploads/2021/02/tuesday-trotters-scaled.jpg
ORGANIZER;CN="Sage%20Utah":MAILTO:sage@utahpridecenter.org
GEO:40.7457423;-111.8739982
X-APPLE-STRUCTURED-LOCATION;VALUE=URI;X-ADDRESS=Liberty Park 600 East 900 SOuth UT United States;X-APPLE-RADIUS=500;X-TITLE=600 East 900 SOuth:geo:-111.8739982,40.7457423
END:VEVENT
BEGIN:VEVENT
DTSTART;TZID=America/Denver:20210810T180000
DTEND;TZID=America/Denver:20210810T193000
DTSTAMP:20210510T075830
CREATED:20210211T221954Z
LAST-MODIFIED:20210206T215139Z
UID:51960-1628618400-1628623800@utahpridecenter.org
SUMMARY:Tuesday Trotters Walking Group
DESCRIPTION:When 2020 crashed our regularly scheduled programming\, the most difficult change was not seeing each other in person.  One of the groups we missed so much was our walking group.  Fast forward to 2021 and we now know the importance of wearing masks and staying socially distant and we’ve gotten good at it after all these months of practicing. \nBecause we are now experts in Covid safety\, let’s start walking!  Please wear your favorite mask\, some sensible walking shoes and make sure you are symptom free.  Walk around the park at your own pace – no rules\, no rush.  Hope to see you there. \nLIBERTY PARK\nBEGINNING ON APRIL 6\, 2021 (EVERY TUESDAY THROUGH THE END OF OCTOBER)\n6:00 PM\nSOUTHEAST SIDE OF THE PARK @ THE WATER FOUNTAIN \nMUST WEAR MASK AND MAINTAIN SOCIAL DISTANCING
URL:https://utahpridecenter.org/community_event/tuesday-trotters-senior-walking-group/2021-08-10/
LOCATION:Liberty Park\, 600 East 900 SOuth\, UT\, United States
CATEGORIES:Senior Programs
ATTACH;FMTTYPE=image/jpeg:https://utahpridecenter.org/wp-content/uploads/2021/02/tuesday-trotters-scaled.jpg
ORGANIZER;CN="Sage%20Utah":MAILTO:sage@utahpridecenter.org
GEO:40.7457423;-111.8739982
X-APPLE-STRUCTURED-LOCATION;VALUE=URI;X-ADDRESS=Liberty Park 600 East 900 SOuth UT United States;X-APPLE-RADIUS=500;X-TITLE=600 East 900 SOuth:geo:-111.8739982,40.7457423
END:VEVENT
BEGIN:VEVENT
DTSTART;TZID=America/Denver:20210817T180000
DTEND;TZID=America/Denver:20210817T193000
DTSTAMP:20210510T075830
CREATED:20210218T222000Z
LAST-MODIFIED:20210206T215139Z
UID:52311-1629223200-1629228600@utahpridecenter.org
SUMMARY:Tuesday Trotters Walking Group
DESCRIPTION:When 2020 crashed our regularly scheduled programming\, the most difficult change was not seeing each other in person.  One of the groups we missed so much was our walking group.  Fast forward to 2021 and we now know the importance of wearing masks and staying socially distant and we’ve gotten good at it after all these months of practicing. \nBecause we are now experts in Covid safety\, let’s start walking!  Please wear your favorite mask\, some sensible walking shoes and make sure you are symptom free.  Walk around the park at your own pace – no rules\, no rush.  Hope to see you there. \nLIBERTY PARK\nBEGINNING ON APRIL 6\, 2021 (EVERY TUESDAY THROUGH THE END OF OCTOBER)\n6:00 PM\nSOUTHEAST SIDE OF THE PARK @ THE WATER FOUNTAIN \nMUST WEAR MASK AND MAINTAIN SOCIAL DISTANCING
URL:https://utahpridecenter.org/community_event/tuesday-trotters-senior-walking-group/2021-08-17/
LOCATION:Liberty Park\, 600 East 900 SOuth\, UT\, United States
CATEGORIES:Senior Programs
ATTACH;FMTTYPE=image/jpeg:https://utahpridecenter.org/wp-content/uploads/2021/02/tuesday-trotters-scaled.jpg
ORGANIZER;CN="Sage%20Utah":MAILTO:sage@utahpridecenter.org
GEO:40.7457423;-111.8739982
X-APPLE-STRUCTURED-LOCATION;VALUE=URI;X-ADDRESS=Liberty Park 600 East 900 SOuth UT United States;X-APPLE-RADIUS=500;X-TITLE=600 East 900 SOuth:geo:-111.8739982,40.7457423
END:VEVENT
END:VCALENDAR