BEGIN:VCALENDAR
VERSION:2.0
PRODID:-//Utah Pride Center - ECPv5.6.0//NONSGML v1.0//EN
CALSCALE:GREGORIAN
METHOD:PUBLISH
X-WR-CALNAME:Utah Pride Center
X-ORIGINAL-URL:https://utahpridecenter.org
X-WR-CALDESC:Events for Utah Pride Center
BEGIN:VTIMEZONE
TZID:America/Denver
BEGIN:DAYLIGHT
TZOFFSETFROM:-0700
TZOFFSETTO:-0600
TZNAME:MDT
DTSTART:20210314T090000
END:DAYLIGHT
BEGIN:STANDARD
TZOFFSETFROM:-0600
TZOFFSETTO:-0700
TZNAME:MST
DTSTART:20211107T080000
END:STANDARD
END:VTIMEZONE
BEGIN:VEVENT
DTSTART;TZID=America/Denver:20210310T140000
DTEND;TZID=America/Denver:20210310T150000
DTSTAMP:20210515T011302
CREATED:20210209T190325Z
LAST-MODIFIED:20210209T190325Z
UID:51820-1615384800-1615388400@utahpridecenter.org
SUMMARY:PRISM
DESCRIPTION:Every Wednesday at 2pm is Prism\, a Queer support group\, co-facilitated by the GSSRC and the Center for Health & Counseling. We talk about anything and everything\, and would love your company! You can join in person in the GSSRC or virtually via Zoom. The weekly Zoom meeting info is: \n\n\n\nMeeting URL:\nhttps://slcc-edu.zoom.us/j/97662686252?pwd=ZXVISm5UakpKR3J5NjVrUWRMRmxQUT09&from=msft\n\n\nMeeting ID:\n976 6268 6252\n\n\nPasscode:\n768806
URL:https://utahpridecenter.org/community_event/prism/2021-03-10/
LOCATION:Salt Lake Community College South City Campus\, 1575 State Street\, Salt Lake City\, UT\, 84115\, United States
CATEGORIES:Community Space
ATTACH;FMTTYPE=image/png:https://utahpridecenter.org/wp-content/uploads/2021/02/Prism-Square.png
GEO:40.7350198;-111.8858575
X-APPLE-STRUCTURED-LOCATION;VALUE=URI;X-ADDRESS=Salt Lake Community College South City Campus 1575 State Street Salt Lake City UT 84115 United States;X-APPLE-RADIUS=500;X-TITLE=1575 State Street:geo:-111.8858575,40.7350198
END:VEVENT
BEGIN:VEVENT
DTSTART;TZID=America/Denver:20210310T173000
DTEND;TZID=America/Denver:20210310T183000
DTSTAMP:20210515T011302
CREATED:20200617T214345Z
LAST-MODIFIED:20210106T213933Z
UID:49531-1615397400-1615401000@utahpridecenter.org
SUMMARY:Adult Programs Daily Hangout
DESCRIPTION:A daily\, 60 minute hang out for all of our Utah Pride Center Adult Programs. \nMonday through Friday. \nAll are welcome\, ages 18+ even if you never attended these groups but always wanted to! \nEach meeting will be a time to talk about feelings\, hardships\, joyful moments\, whatever we want to share with each other \nWe want to stay connected and support each other through this time of social distancing! Remember\, we are in this together\, and staying in touch / seeing each others lovely faces is a great way to maintain emotional/mental health and morale! \nVirtual Meeting Information: \n\n\n\nmeet.google.com/iwp-xogm-ojh\n\n\n\n\n \n\n\nJoin by phone\n‪(US) +1 219-281-4189‬ PIN: ‪545 648 573‬#
URL:https://utahpridecenter.org/community_event/adult-programs-daily-hangout-2020-12-28/2021-03-10/
LOCATION:Online-Virtual\, UT
CATEGORIES:Adult Focus Programs
ORGANIZER;CN="Nick%20Arteaga":MAILTO:nickarteaga@utahpridecenter.org
END:VEVENT
BEGIN:VEVENT
DTSTART;TZID=America/Denver:20210310T180000
DTEND;TZID=America/Denver:20210310T193000
DTSTAMP:20210515T011302
CREATED:20210216T235905Z
LAST-MODIFIED:20210216T235905Z
UID:52240-1615399200-1615404600@utahpridecenter.org
SUMMARY:LGBTQIA+ Cultural Competency 101 for Parents & Caregivers
DESCRIPTION:This is a 90-minute LGBTQIA+ Cultural Competency 101 training for parents & caregivers. \nThe Utah Pride Center offers LGBTQIA+ cultural competency trainings to parents & caregivers. This training is 101 in understanding the experiences of LGBTQIA+ people\, and how to work in our homes\, places of work\, congregations\, and communities to improve the lives of members of the LGBTQIA+ community. \nThe 90-minute training covers basic language\, current research and best practices related to the LGBTQIA+ community\, privilege and daily experiences of LGBTQIA+ people including micro-aggressions\, intersectionality and multiple marginalized statuses\, the experiences of LGBTQIA+ youth and disparities in this group\, and resources available in the community. \nAfter the training\, participants will have increased familiarity\, sensitivity\, and understanding of cultural characteristics\, history\, values\, belief systems\, and behaviors of LGBTQIA+ individuals. Participants will know that cultural differences as well as similarities exist\, and practice viewing these without assigning values (better or worse\, right or wrong). \nYou will receive a Zoom invitation 24 hours prior to the training.
URL:https://utahpridecenter.org/community_event/lgbtqia-cultural-competency-101-for-parents-caregivers-2/
LOCATION:Online-Virtual\, UT
CATEGORIES:Education
ATTACH;FMTTYPE=image/png:https://utahpridecenter.org/wp-content/uploads/2021/02/New-UPC-Logo-1200x648-1-1.png
ORGANIZER;CN="Youth%20%26%20Family%20Programs":MAILTO:yfp@utahpridecenter.org
END:VEVENT
BEGIN:VEVENT
DTSTART;TZID=America/Denver:20210310T180000
DTEND;TZID=America/Denver:20210310T193000
DTSTAMP:20210515T011302
CREATED:20210224T194722Z
LAST-MODIFIED:20210224T194722Z
UID:52769-1615399200-1615404600@utahpridecenter.org
SUMMARY:QPR Suicide Prevention Training
DESCRIPTION:We invite you to join us for this free virtual training to learn the steps in Question\, Persuade\, and Refer (QPR) suicide prevention. Much like CPR is an emergency medical intervention\, QPR is an emergency mental health intervention. You can join the meeting from any device that has a web browser. If you have questions about the training please email prevention@utahpridecenter.org. To register for the training complete this form – http://bit.ly/UPCQPR  Visit https://www.utahpridecenter.org/prevention/qpr/ for more info.
URL:https://utahpridecenter.org/community_event/qpr-suicide-prevention-training/
LOCATION:Online-Virtual\, UT
CATEGORIES:Suicide Prevention
ATTACH;FMTTYPE=image/png:https://utahpridecenter.org/wp-content/uploads/2021/02/QPR-cover-image.png
ORGANIZER;CN="Utah%20Pride%20Center":MAILTO:info@utahpridecenter.org
END:VEVENT
BEGIN:VEVENT
DTSTART;TZID=America/Denver:20210310T183000
DTEND;TZID=America/Denver:20210310T193000
DTSTAMP:20210515T011302
CREATED:20210105T043939Z
LAST-MODIFIED:20210129T232059Z
UID:50440-1615401000-1615404600@utahpridecenter.org
SUMMARY:SAGE Daily Call
DESCRIPTION:This is a daily check in call for SAGE members or allies.  The schedule is: \nMonday    –    TED Talks \nTuesday   –    (virtual) Walking Tours \nWednesday – Book Club \nThursday    –  Trivia Night \nFriday – Third Friday Supper Club has its own event on the calendar. \nNo calls on Saturday or Sunday \nYou can join by phone or computer via this link: TEAMS MEETING
URL:https://utahpridecenter.org/community_event/sage-daily-call-2021-02-17/2021-03-10/
LOCATION:Online-Virtual\, UT
CATEGORIES:Senior Programs
ATTACH;FMTTYPE=:
ORGANIZER;CN="Deb%20Hall":MAILTO:debhall@utahpridecenter.org
END:VEVENT
BEGIN:VEVENT
DTSTART;TZID=America/Denver:20210310T190000
DTEND;TZID=America/Denver:20210310T200000
DTSTAMP:20210515T011302
CREATED:20210301T162535Z
LAST-MODIFIED:20210212T014709Z
UID:52795-1615402800-1615406400@utahpridecenter.org
SUMMARY:PRIDE WEEK PLANNING PRESENTATION
DESCRIPTION:Leadership volunteers are wanted to help create/produce a new version of Pride Week in June of 2021 on Washington Square / Downtown SLC.  This team of volunteers will meet and work together during March-April-May planning our new Covid-Safe version of Pride. \nJoin us to learn more and see if you would like to get involved and be part of making Pride happen in 2021:\nAttend via Zoom or in person at the Utah Pride Center (Mask & Social Distancing Required). \nJoin Zoom Meeting @\nhttps://us02web.zoom.us/j/87504803435\n  \nSKILLS WANTED:  Event Production\, Marketing\, Advertising\, Video Production\, A/V Equipment\, Volunteer Coordination\, Trade Show Experience\, Art Exhibits\, Historical Research\, Content Writing\, Graphic Arts\, Project Management\, Hospitality & Much More!
URL:https://utahpridecenter.org/community_event/pride-week-planning-presentation/2021-03-10/
LOCATION:Utah Pride Center\, 1380 S. Main Street\, Salt Lake City\, UT\, 84115\, United States
CATEGORIES:Pride & Center Events
ATTACH;FMTTYPE=image/png:https://utahpridecenter.org/wp-content/uploads/2021/02/Graphic-Leadership-Volunteers-Meeting-Invite-Utah-Pride-2021.png
GEO:40.739687;-111.8915823
X-APPLE-STRUCTURED-LOCATION;VALUE=URI;X-ADDRESS=Utah Pride Center 1380 S. Main Street Salt Lake City UT 84115 United States;X-APPLE-RADIUS=500;X-TITLE=1380 S. Main Street:geo:-111.8915823,40.739687
END:VEVENT
END:VCALENDAR