BEGIN:VCALENDAR
VERSION:2.0
PRODID:-//Utah Pride Center - ECPv5.8.0//NONSGML v1.0//EN
CALSCALE:GREGORIAN
METHOD:PUBLISH
X-WR-CALNAME:Utah Pride Center
X-ORIGINAL-URL:https://utahpridecenter.org
X-WR-CALDESC:Events for Utah Pride Center
BEGIN:VTIMEZONE
TZID:America/Denver
BEGIN:DAYLIGHT
TZOFFSETFROM:-0700
TZOFFSETTO:-0600
TZNAME:MDT
DTSTART:20210314T090000
END:DAYLIGHT
BEGIN:STANDARD
TZOFFSETFROM:-0600
TZOFFSETTO:-0700
TZNAME:MST
DTSTART:20211107T080000
END:STANDARD
END:VTIMEZONE
BEGIN:VEVENT
DTSTART;TZID=America/Denver:20210414T190000
DTEND;TZID=America/Denver:20210414T203000
DTSTAMP:20210704T223026
CREATED:20190729T200436Z
LAST-MODIFIED:20210527T210927Z
UID:46940-1618426800-1618432200@utahpridecenter.org
SUMMARY:Bi-Hive Peer Support Group
DESCRIPTION:Bi-Hive Peer Support Group \n\n\nOne a month on the second Wednesday of the month @ 7pm. \n\n\n \nWe’re using Zoom now\, which allows us to have automatic closed captions for those of us who hear less of the conversation.  If you have trouble joining\, please text me @ 801-884-7450 or email me at joniweiss@utahpridecenter.org or bi-hive@utahpridecenter.org.\n\n \nZOOM Links & Info:\n\nhttps://us02web.zoom.us/j/86964647886 \nMeeting ID: 869 6464 7886One tap mobile+12532158782\,\,86964647886# US (Tacoma)+13462487799\,\,86964647886# US (Houston) \nDial by your location+1 253 215 8782 US (Tacoma)+1 346 248 7799 US (Houston)+1 669 900 9128 US (San Jose)+1 301 715 8592 US (Washington DC)+1 312 626 6799 US (Chicago)+1 646 558 8656 US (New York) \nMeeting ID: 869 6464 7886 \nFind your local number: https://us02web.zoom.us/u/kdJ5l8cusl \n  \n\n \n 
URL:https://utahpridecenter.org/community_event/sage-bi-hive-50-2020-06-04-2020-12-03-2021-04-14/2021-04-14/
LOCATION:Online-Virtual\, UT
CATEGORIES:Adult Focus Programs,Senior Programs
ATTACH;FMTTYPE=image/png:https://utahpridecenter.org/wp-content/uploads/2019/07/Bi-Hive-FB-Group-Banner-768x402-1.png
ORGANIZER;CN="Deb%20Hall":MAILTO:debhall@utahpridecenter.org
END:VEVENT
BEGIN:VEVENT
DTSTART;TZID=America/Denver:20210421T120000
DTEND;TZID=America/Denver:20210421T130000
DTSTAMP:20210704T223026
CREATED:20210421T203925Z
LAST-MODIFIED:20210505T220912Z
UID:55303-1619006400-1619010000@utahpridecenter.org
SUMMARY:Gay Men's Sack Lunch
DESCRIPTION:Bring your lunch (or not)\, and join our group of gay men for an informal hour of conversation\, gossip\, support and catching up on what is happening in each other’s lives. \nSack Lunch is now being held in person at the Utah Pride Center every Wednesday at noon. This is in conjunction with the virtual format we have been using for the past year. \nTo attend at the Center\, you should be fully vaccinated\, feeling well\, and not have an elevated temperature. We will be allowed to remove our masks during lunch\, but required to wear them anywhere else in the Center.\nFor those not yet vaccinated\, or otherwise unable to attend Sack Lunch in person\, you can still join us virtually via your computer or smartphone at: meet.google.com/ddk-zojp-gvj
URL:https://utahpridecenter.org/community_event/gay-mens-sack-lunch/2021-04-21/
LOCATION:Utah Pride Center\, 1380 S. Main Street\, Salt Lake City\, UT\, 84115\, United States
CATEGORIES:Adult Focus Programs,Community Space,Senior Programs
ORGANIZER;CN="Sage%20Utah":MAILTO:sage@utahpridecenter.org
GEO:40.739687;-111.8915823
X-APPLE-STRUCTURED-LOCATION;VALUE=URI;X-ADDRESS=Utah Pride Center 1380 S. Main Street Salt Lake City UT 84115 United States;X-APPLE-RADIUS=500;X-TITLE=1380 S. Main Street:geo:-111.8915823,40.739687
END:VEVENT
BEGIN:VEVENT
DTSTART;TZID=America/Denver:20210421T180000
DTEND;TZID=America/Denver:20210421T200000
DTSTAMP:20210704T223026
CREATED:20210421T224438Z
LAST-MODIFIED:20210421T225141Z
UID:55365-1619028000-1619035200@utahpridecenter.org
SUMMARY:Whiffling Wednesday (AKA Pickleball!)
DESCRIPTION:The SAGE program has RESERVED (2) courts\, Wednesday evenings at Murray Park\, All players and skill levels welcome. Extra paddles are available. Please\, if you RSVP\, be on time or a few mins early to honor our court reservations. Courts located North side of the park\, off of Myrtle Ave/State St (1 street North of the main park entrance)
URL:https://utahpridecenter.org/community_event/whiffling-wednesday-aka-pickleball/2021-04-21/
LOCATION:UT\, United States
CATEGORIES:Adult Focus Programs,Senior Programs
ATTACH;FMTTYPE=image/jpeg:https://utahpridecenter.org/wp-content/uploads/2021/04/170508436_3744901192294249_6791686396880580986_n.jpg
ORGANIZER;CN="Sage%20Utah":MAILTO:sage@utahpridecenter.org
END:VEVENT
END:VCALENDAR