BEGIN:VCALENDAR
VERSION:2.0
PRODID:-//Utah Pride Center - ECPv5.8.0//NONSGML v1.0//EN
CALSCALE:GREGORIAN
METHOD:PUBLISH
X-WR-CALNAME:Utah Pride Center
X-ORIGINAL-URL:https://utahpridecenter.org
X-WR-CALDESC:Events for Utah Pride Center
BEGIN:VTIMEZONE
TZID:America/Denver
BEGIN:DAYLIGHT
TZOFFSETFROM:-0700
TZOFFSETTO:-0600
TZNAME:MDT
DTSTART:20210314T090000
END:DAYLIGHT
BEGIN:STANDARD
TZOFFSETFROM:-0600
TZOFFSETTO:-0700
TZNAME:MST
DTSTART:20211107T080000
END:STANDARD
END:VTIMEZONE
BEGIN:VEVENT
DTSTART;TZID=America/Denver:20210606T133000
DTEND;TZID=America/Denver:20210606T150000
DTSTAMP:20210704T223659
CREATED:20190307T212356Z
LAST-MODIFIED:20210605T164127Z
UID:47252-1622986200-1622991600@utahpridecenter.org
SUMMARY:TransAction Weekly Meetings
DESCRIPTION:TransAction creates community\, offers mentorship\, and teaches life skills to the trans and gender diverse communities. Please join us for our weekly meetings every Sunday! Find our page on Facebook to stay in touch with us. \nGoogle Meets: https://meet.google.com/yst-swvp-zte \n 
URL:https://utahpridecenter.org/community_event/transaction-weekly-meetings-2019-03-17/2021-06-06/
LOCATION:Online-Virtual\, UT
CATEGORIES:Adult Focus Programs
ORGANIZER;CN="Utah%20Pride%20Center":MAILTO:info@utahpridecenter.org
END:VEVENT
END:VCALENDAR